BEGIN:VCALENDAR
VERSION:2.0
PRODID:-//Abbaye de Rhuys - ECPv6.11.1//NONSGML v1.0//EN
CALSCALE:GREGORIAN
METHOD:PUBLISH
X-ORIGINAL-URL:https://www.abbaye-de-rhuys.fr
X-WR-CALDESC:Évènements pour Abbaye de Rhuys
REFRESH-INTERVAL;VALUE=DURATION:PT1H
X-Robots-Tag:noindex
X-PUBLISHED-TTL:PT1H
BEGIN:VTIMEZONE
TZID:Europe/Paris
BEGIN:DAYLIGHT
TZOFFSETFROM:+0100
TZOFFSETTO:+0200
TZNAME:CEST
DTSTART:20170326T010000
END:DAYLIGHT
BEGIN:STANDARD
TZOFFSETFROM:+0200
TZOFFSETTO:+0100
TZNAME:CET
DTSTART:20171029T010000
END:STANDARD
BEGIN:DAYLIGHT
TZOFFSETFROM:+0100
TZOFFSETTO:+0200
TZNAME:CEST
DTSTART:20180325T010000
END:DAYLIGHT
BEGIN:STANDARD
TZOFFSETFROM:+0200
TZOFFSETTO:+0100
TZNAME:CET
DTSTART:20181028T010000
END:STANDARD
END:VTIMEZONE
BEGIN:VEVENT
DTSTART;TZID=Europe/Paris:20180311T160000
DTEND;TZID=Europe/Paris:20180311T180000
DTSTAMP:20260423T212455
CREATED:20171123T163257Z
LAST-MODIFIED:20181110T162819Z
UID:1444-1520784000-1520791200@www.abbaye-de-rhuys.fr
SUMMARY:Les évasions d'hiver à l'Abbaye - visite de l'Irlande
DESCRIPTION:L’Abbaye de Rhuys est heureuse de vous proposer ce nouveau rendez-vous de voyage\, de rencontres et de partage… Ce dimanche nous partirons à la découverte de L‘Irlande\, grâce à Luc GIARD qui nous fait le plaisir de venir nous présenter son film. \nProgramme de l’après-midi :\n– 1ère partie du film\n– Petit entracte\, collation offerte\n– 2ème partie du film\n– Échanges avec le réalisateur \nPrésentation du film :\nDans son film sur l’Irlande\, Luc Giard vous fera découvrir les Irlandais et leurs passions\, du Buren au Connemara en passant par le Donegal. Il s’agit là d’un ensemble de tableaux vivants qui sert de décor aux traditions et à l’histoire de cette île aux beautés sublimes.\nLuc Giard faufile sa caméra entre « ombres et lumières » Là où l’homme et son amour du pays reste essentiel. Venez partager les émotions d’une Irlande vivante. \nPrésentation de l’auteur :\nAprès des études aux Beaux Arts\, Luc Giard troque son pinceau pour une caméra. Il rapportera 4 reportages importants sur l’Amérique latine. Cherchant la difficulté en traitant des sujets proches\, l’Angleterre puis l’Ecosse deviennent ses sujets de prédilection.\nAujourd’hui\, il complète son triptyque sur les îles britanniques avec « Irlande\, Ombres et lumières ». Il s’agit d’un film dans lequel sa sensibilité romantique de cameraman reflète merveilleusement la richesse de ce pays. \nTarifs abonnements :\n– Forfait 3 films : 18 €\n– Forfait 4 films : 24 €\n– Forfait 5 films : 30 €
URL:https://www.abbaye-de-rhuys.fr/evenement/evasions-dhiver-a-labbaye-visite-de-lirlande/
LOCATION:Abbaye de Rhuys\, 1\, place Monseigneur Ropert\, St Gildas de Rhuys\, 56730\, France
CATEGORIES:Des activités culturelles
ATTACH;FMTTYPE=image/jpeg:https://www.abbaye-de-rhuys.fr/wp-content/uploads/2017/11/ABD_5109.jpg
ORGANIZER;CN="Abbaye de Rhuys":MAILTO:abbayerhuyscom@gmail.com
END:VEVENT
BEGIN:VEVENT
DTSTART;TZID=Europe/Paris:20180211T160000
DTEND;TZID=Europe/Paris:20180211T180000
DTSTAMP:20260423T212455
CREATED:20171123T145314Z
LAST-MODIFIED:20181110T162823Z
UID:1432-1518364800-1518372000@www.abbaye-de-rhuys.fr
SUMMARY:Les évasions d'hiver à l'Abbaye - visite des îles de la Martinique et de la Guadeloupe
DESCRIPTION:L’Abbaye de Rhuys est heureuse de vous proposer ce nouveau rendez-vous de voyage\, de rencontres et de partage… Ce dimanche nous irons à la découverte de La Martinique et de la Guadeloupe\, grâce à Marie-Thérèse et Serge MATHIEU qui nous font le plaisir de venir nous présenter leur film. \nProgramme de l’après-midi :\n– 1ère partie du film\n– Petit entracte\, collation offerte\n– 2ème partie du film\n– Échanges avec les réalisateurs \nPrésentation du film :\nLa Martinique et La Guadeloupe deux noms d’îles\, évocateurs de rêves. Cependant\, connaissons-nous vraiment ces deux départements français du bout du monde ?\nTout en n’omettant pas de nous montrer les clichés habituels\, les cotés exotiques et colorées sorties des dépliants touristiques\, Marie-Thérèse et Serge nous emmènent à la découverte des Antilles françaises et plus particulièrement des îles de la Martinique et de la Guadeloupe. Nous avons tous en tête des photos de plages paradisiaques\, de cocotiers\, de ciel bleu et de soleil…\, nous avons entendu parler de ces îles magnifiques\, « parfois en négatif » … mais que connaissons-nous réellement de la culture locale ? Des traditions ? De la gastronomie ? De la musique ? et aussi les réalités du quotidien\, la douceur de vivre\, déguster le rhum\, « sentir » la caresse du soleil\, danser aux sons du Gwoka et du carnaval… \nPrésentation des réalisateurs :\nDepuis de nombreuses années le goût des rencontres\, des voyages\, des découvertes\, les emmènent sur les routes du monde au contact des populations. Ils n’ont pas de sujets de prédilection\, la découverte de l’autre anime leurs voyages. L’autre est paysage avec ses couleurs\, ses odeurs ; l’autre est humain\, respecté dans sa différence ; l’autre est animal\, toujours en liberté.\nAprès leur dernière réalisation sur la Corse\, c’est à nouveau vers des îles qu’ils ont tourné leurs caméras. Ils ont posé leurs valises en Martinique et en Guadeloupe\, à plus de sept mille kilomètres de la métropole. Ils ont effectué plusieurs séjours et passés de nombreux mois\, en immersion au contact des Martiniquais et des Guadeloupéens qui leur parlent de leur vie dans cette lointaine France ! Ils vous entrainent dans cet art de vivre antillais. \nProchain et dernier rendez-vous pour cet hiver 2017–2018\n– Le dimanche 11 mars : L’IRLANDE de Luc GIARD \nTarifs abonnements :\n– Forfait 3 films : 18 €\n– Forfait 4 films : 24 €\n– Forfait 5 films : 30 €
URL:https://www.abbaye-de-rhuys.fr/evenement/evasions-dhiver-a-labbaye-visite-iles-de-martinique-de-guadeloupe/
LOCATION:Abbaye de Rhuys\, 1\, place Monseigneur Ropert\, St Gildas de Rhuys\, 56730\, France
CATEGORIES:Des activités culturelles
ATTACH;FMTTYPE=image/jpeg:https://www.abbaye-de-rhuys.fr/wp-content/uploads/2017/11/Martiniquaise-2-photo-Serge-Mathieu-copie.jpg
ORGANIZER;CN="Abbaye de Rhuys":MAILTO:abbayerhuyscom@gmail.com
END:VEVENT
BEGIN:VEVENT
DTSTART;TZID=Europe/Paris:20171228T160000
DTEND;TZID=Europe/Paris:20171228T173000
DTSTAMP:20260423T212455
CREATED:20171117T163522Z
LAST-MODIFIED:20181110T162829Z
UID:1395-1514476800-1514482200@www.abbaye-de-rhuys.fr
SUMMARY:Concert de fin d'année avec le duo Stellyne
DESCRIPTION:L’été dernier\, nous avons eu la joie de découvrir Stéphanie HUMEAU\, pianiste\, lors de son concert intitulé « Bestiaire musical » où elle était accompagnée de Sabine REVAULT D’ALLONNES\, soprano. \nPour les fêtes de fin d’année\, Stéphanie HUMEAU nous fait l’immense plaisir de revenir. Pour ce nouveau rendez-vous\, elle sera accompagnée par Roselyne MARTEL BONNAL\, soprano avec laquelle elle forme le duo Stellyne. \nCes deux jeunes et talentueuses artistes interpréteront des oeuvres de Mozart\, Puccini\, Schubert\, Verdi\, Debussy\, Offenbach\, Strauss\, Bizet… un riche programme pour ce concert qui se veut joyeux et festif. \nPrésentation du duo Stellyne : \nCréé lors de leurs cursus musicaux respectifs\, le duo Stellyne s’est formé en 2006 pour participer au Concours International de Musique de Chambre Lucien Durosoir parrainé par l’association « Musiciens entre Guerre et Paix ». \nSpécialisé dans la musique française du 20ème siècle (dique Armande de Polignac chez Hybrid Music et celui d’Ermend Bonnal chez Calliope) le duo Stellyne ne se cantonne pas à cet univers mais aime à se produire dans différents styles musicaux : musique espagnole\, allemande\, russe\, italienne\, contemporaine. Très souvent sollicité dans des lieux historiques\, il peut aussi proposer des spectacles musicaux tout public\, alliant opéra et opérette ou encore des concerts à thème. \nVous pouvez\, dès à présent\, réserver vos places.
URL:https://www.abbaye-de-rhuys.fr/evenement/concert-de-fin-dannee-duo-stellyne/
LOCATION:Abbaye de Rhuys\, 1\, place Monseigneur Ropert\, St Gildas de Rhuys\, 56730\, France
CATEGORIES:Des activités culturelles
ATTACH;FMTTYPE=image/jpeg:https://www.abbaye-de-rhuys.fr/wp-content/uploads/2017/11/Duo-Stellyne.jpg
ORGANIZER;CN="Abbaye de Rhuys":MAILTO:abbayerhuyscom@gmail.com
END:VEVENT
END:VCALENDAR